BEGIN:VCALENDAR
VERSION:2.0
PRODID:-//Deutsches Sachkunde-Zentrum - ECPv6.15.20//NONSGML v1.0//EN
CALSCALE:GREGORIAN
METHOD:PUBLISH
X-WR-CALNAME:Deutsches Sachkunde-Zentrum
X-ORIGINAL-URL:https://www.deutsches-sachkunde-zentrum.de
X-WR-CALDESC:Veranstaltungen für Deutsches Sachkunde-Zentrum
REFRESH-INTERVAL;VALUE=DURATION:PT1H
X-Robots-Tag:noindex
X-PUBLISHED-TTL:PT1H
BEGIN:VTIMEZONE
TZID:Europe/Berlin
BEGIN:DAYLIGHT
TZOFFSETFROM:+0100
TZOFFSETTO:+0200
TZNAME:CEST
DTSTART:20250330T010000
END:DAYLIGHT
BEGIN:STANDARD
TZOFFSETFROM:+0200
TZOFFSETTO:+0100
TZNAME:CET
DTSTART:20251026T010000
END:STANDARD
BEGIN:DAYLIGHT
TZOFFSETFROM:+0100
TZOFFSETTO:+0200
TZNAME:CEST
DTSTART:20260329T010000
END:DAYLIGHT
BEGIN:STANDARD
TZOFFSETFROM:+0200
TZOFFSETTO:+0100
TZNAME:CET
DTSTART:20261025T010000
END:STANDARD
BEGIN:DAYLIGHT
TZOFFSETFROM:+0100
TZOFFSETTO:+0200
TZNAME:CEST
DTSTART:20270328T010000
END:DAYLIGHT
BEGIN:STANDARD
TZOFFSETFROM:+0200
TZOFFSETTO:+0100
TZNAME:CET
DTSTART:20271031T010000
END:STANDARD
END:VTIMEZONE
BEGIN:VEVENT
DTSTART;VALUE=DATE:20260906
DTEND;VALUE=DATE:20260928
DTSTAMP:20260422T142215
CREATED:20211013T130151Z
LAST-MODIFIED:20260408T105649Z
UID:10000199-1788652800-1790553599@www.deutsches-sachkunde-zentrum.de
SUMMARY:PM-T1-2026 Inkasso-Sachkundelehrgang - Mallorca
DESCRIPTION:PM-T1-2026 Inkasso-Sachkundelehrgang – Mallorca\nVeranstaltungsort: Mallorca / Sa Coma – Hotel Mediterraneo\nTeilnehmerzahl: 10 Personen\nKonditionen: Lehrgang inkl. Prüfung 5.750\,00 Euro \nBeschreibung\nTermine: \n\nSo. 06.09.2026: Anreise und Begrüßungsabend\nMo. 07.09.2026- Fr. 25.09.2026: Unterricht\nDie genauen Tage für Freizeit stehen noch nicht fest und werden vor Ort festgelegt.\nSa. 26.09.2026: schriftliche & mündliche Prüfung\nSo. 27.09.2026: Abreise\n\nDer Unterricht beginnt jeweils um 9.00 Uhr und endet um ca.18.30 Uhr. \nEnthaltene Leistungen:\n\nDozentinnen und Dozenten\nmindestens 120 Zeitstunden Unterricht\nLehrgangsunterlagen im PDF Format\n3 Prüfer/innen\n1 Tag Prüfung\nPrüfungsunterlagen\nSeminarraum inkl. Pausengetränke im Hotel Mediterraneo / Sa Coma\n\nLehrbücher:\n„Habersack“\, Deutsche Gesetze“ mit Ergänzungsband vom C. H. Beck Verlag \nDie Lehrbücher sind auf eigene Kosten zu beschaffen. \nFlug + Hotel:\nDie Kosten für die An- und Abreise sowie für die Unterkunft und Verpflegung tragen die Teilnehmer/innen selbst. \nWir empfehlen Ihnen ein Zimmer im Seminarhotel zu buchen\, damit die pünktliche Teilnahme am Unterricht gewährleistet ist. \nEbenso empfehlen wir den Abschluss einer Reise- und Hotelrücktrittsversicherung um unnötige Kosten bei einer Verhinderung an der Teilnahme o.ä. zu vermeiden. \nGerne vermitteln wir den Kontakt zu einem Reisebüro\, welches das Hotel kennt und alle Buchungen in den vergangenen Jahren für uns vorgenommen hat.
URL:https://www.deutsches-sachkunde-zentrum.de/termin/pm-t1-2026-inkasso-sachkundelehrgang-mallorca/
LOCATION:Mallorca\, Deutschland
CATEGORIES:Inkasso Mallorca,Inkasso Sachkunde
ATTACH;FMTTYPE=image/jpeg:https://www.deutsches-sachkunde-zentrum.de/wp-content/uploads/2022/02/Mallorca_Bildband_7.jpg
END:VEVENT
END:VCALENDAR